BEGIN:VCALENDAR
VERSION:2.0
PRODID:-//Budget Friendly Associates, Bachelors, and MBA Programs in San Diego
CALSCALE:GREGORIAN
METHOD:PUBLISH
X-WR-CALNAME:Budget Friendly Associates, Bachelors, and MBA Programs in San Diego
X-ORIGINAL-URL:https://uslasandiego.org/event/the-ecosystem-within-us/
X-WR-CALDESC:The Ecosystem Within Us
BEGIN:VEVENT
DTSTART:20160621T070000
DTEND:20160621T113000
SUMMARY:The Ecosystem Within Us
DESCRIPTION:Nor again is there anyone who loves or pursues or desires to obtain pain of itself, because it is pain, but because occasionally circumstances occur in which toil and pain can procure.
LOCATION:Bentley Campus, Perth, WA
END:VEVENT
END:VCALENDAR
